BEGIN:VCALENDAR
VERSION:2.0
PRODID:-//Kaninchen-Blog.de - ECPv6.15.20//NONSGML v1.0//EN
CALSCALE:GREGORIAN
METHOD:PUBLISH
X-ORIGINAL-URL:https://kaninchen-blog.de
X-WR-CALDESC:Veranstaltungen für Kaninchen-Blog.de
REFRESH-INTERVAL;VALUE=DURATION:PT1H
X-Robots-Tag:noindex
X-PUBLISHED-TTL:PT1H
BEGIN:VTIMEZONE
TZID:UTC
BEGIN:STANDARD
TZOFFSETFROM:+0000
TZOFFSETTO:+0000
TZNAME:UTC
DTSTART:20240101T000000
END:STANDARD
END:VTIMEZONE
BEGIN:VEVENT
DTSTART;TZID=UTC:20250108T190000
DTEND;TZID=UTC:20250108T210000
DTSTAMP:20260422T022113
CREATED:20241224T112840Z
LAST-MODIFIED:20241224T113304Z
UID:372-1736362800-1736370000@kaninchen-blog.de
SUMMARY:Jahreshautversammlung W168
DESCRIPTION:Jahreshautversammlung des Rassekaninchenzuchtvereins W168-Emsdetten e.V.
URL:https://kaninchen-blog.de/veranstaltungen/generalversammlung/
LOCATION:Hotel Kloppenborg\, Frauenstraße 15\, Emsdetten\, NRW\, 48282
END:VEVENT
END:VCALENDAR