BEGIN:VCALENDAR
VERSION:2.0
PRODID:-//Kaninchen-Blog.de - ECPv6.15.20//NONSGML v1.0//EN
CALSCALE:GREGORIAN
METHOD:PUBLISH
X-ORIGINAL-URL:https://kaninchen-blog.de
X-WR-CALDESC:Veranstaltungen für Kaninchen-Blog.de
REFRESH-INTERVAL;VALUE=DURATION:PT1H
X-Robots-Tag:noindex
X-PUBLISHED-TTL:PT1H
BEGIN:VTIMEZONE
TZID:UTC
BEGIN:STANDARD
TZOFFSETFROM:+0000
TZOFFSETTO:+0000
TZNAME:UTC
DTSTART:20230101T000000
END:STANDARD
END:VTIMEZONE
BEGIN:VEVENT
DTSTART;TZID=UTC:20241214T000000
DTEND;TZID=UTC:20241215T235959
DTSTAMP:20260422T022200
CREATED:20241213T182408Z
LAST-MODIFIED:20241213T192836Z
UID:17-1734134400-1734307199@kaninchen-blog.de
SUMMARY:Kreiskaninchenausstellung
DESCRIPTION:Kreiskaninchenausstellung in Rheine \nEs wurden über 400 Kaninchen gemeldet!! \n    \nSo sah es am Donnerstag Morgen aus. Fast alle Kaninchen waren eingesetzt. \nNun sind die Preisrichter gefragt\, welche Kaninchen sind die Besten. \n \nÖffnungszeiten:\nSa.: 9:00 – 18:00\nSo.: 10:00 – 17:00 \nWir freuen uns auf Ihren Besuch. \nFranz Hörsting
URL:https://kaninchen-blog.de/veranstaltungen/kreiskaninchenausstellung/
LOCATION:Wadelheimer Landhaus\, Wadelheimer Ch 163\, Rheine\, NRW\, 48432\, Germany
ORGANIZER;CN="W 373 Rheine":MAILTO:hessling3691@aol.com
END:VEVENT
END:VCALENDAR